BEGIN:VCALENDAR
VERSION:2.0
CALSCALE:GREGORIAN
METHOD:PUBLISH
X-WR-TIMEZONE:Australia/Sydney
BEGIN:VTIMEZONE
TZID:Australia/Sydney
BEGIN:STANDARD
TZNAME:AEST
DTSTART:19700101T000000
TZOFFSETFROM:+1100
TZOFFSETTO:+1000
END:STANDARD
END:VTIMEZONE
BEGIN:VEVENT
DTSTART;TZID=Australia/Sydney:20241007
DTEND;TZID=Australia/Sydney:20241007
DTSTAMP:20260420T013640
UID:387
SUMMARY:Faction Athletics Carnival
DESCRIPTION:




Monday 7th October - Jumps &amp;amp; Throws - Year 4-10
Tuesday 8th October - Main carnival - K-10


SEQUENCE:0
STATUS:CONFIRMED
TRANSP:OPAQUE
END:VEVENT
END:VCALENDAR